BEGIN:VCALENDAR
VERSION:2.0
PRODID:-//Colégio Ítaca - ECPv6.15.20//NONSGML v1.0//EN
CALSCALE:GREGORIAN
METHOD:PUBLISH
X-ORIGINAL-URL:https://itaca.com.br
X-WR-CALDESC:Eventos para Colégio Ítaca
REFRESH-INTERVAL;VALUE=DURATION:PT1H
X-Robots-Tag:noindex
X-PUBLISHED-TTL:PT1H
BEGIN:VTIMEZONE
TZID:America/Sao_Paulo
BEGIN:STANDARD
TZOFFSETFROM:-0300
TZOFFSETTO:-0300
TZNAME:-03
DTSTART:20240101T000000
END:STANDARD
END:VTIMEZONE
BEGIN:VEVENT
DTSTART;VALUE=DATE:20250506
DTEND;VALUE=DATE:20250510
DTSTAMP:20260421T165421
CREATED:20241220T165032Z
LAST-MODIFIED:20241220T165032Z
UID:8547-1746489600-1746835199@itaca.com.br
SUMMARY:Estudo do Meio 2º EM (data indicativa)
DESCRIPTION:
URL:https://itaca.com.br/agenda/estudo-do-meio-2o-em-data-indicativa-2/
LOCATION:Ensino Médio
CATEGORIES:Atividades externas
END:VEVENT
BEGIN:VEVENT
DTSTART;VALUE=DATE:20250512
DTEND;VALUE=DATE:20250513
DTSTAMP:20260421T165421
CREATED:20241220T165205Z
LAST-MODIFIED:20241220T165205Z
UID:8549-1747008000-1747094399@itaca.com.br
SUMMARY:6EF - SAÍDA DE ESTUDO - aldeia  (dt indic)
DESCRIPTION:
URL:https://itaca.com.br/agenda/6ef-saida-de-estudo-aldeia-dt-indic/
LOCATION:Ensino Fundamental 2
CATEGORIES:Atividades externas
END:VEVENT
BEGIN:VEVENT
DTSTART;TZID=America/Sao_Paulo:20250515T080000
DTEND;TZID=America/Sao_Paulo:20250515T170000
DTSTAMP:20260421T165421
CREATED:20250125T150246Z
LAST-MODIFIED:20250125T150246Z
UID:9317-1747296000-1747328400@itaca.com.br
SUMMARY:7EF saída de Estudo - Imigrações (data indicativa)
DESCRIPTION:
URL:https://itaca.com.br/agenda/7ef-saida-de-estudo-imigracoes-data-indicativa/
LOCATION:Ensino Fundamental 2
CATEGORIES:Atividades externas
END:VEVENT
BEGIN:VEVENT
DTSTART;VALUE=DATE:20250520
DTEND;VALUE=DATE:20250524
DTSTAMP:20260421T165421
CREATED:20241220T165417Z
LAST-MODIFIED:20241220T165618Z
UID:8552-1747699200-1748044799@itaca.com.br
SUMMARY:Estudo do meio 8EF - data indicativa  Estudo do meio 9EF - data indicativa
DESCRIPTION:
URL:https://itaca.com.br/agenda/7ef-saida-de-estudo-imigracoes-dt-indic/
LOCATION:Ensino Fundamental 2
CATEGORIES:Atividades externas
END:VEVENT
END:VCALENDAR