BEGIN:VCALENDAR
VERSION:2.0
PRODID:-//Colégio Ítaca - ECPv6.15.20//NONSGML v1.0//EN
CALSCALE:GREGORIAN
METHOD:PUBLISH
X-ORIGINAL-URL:https://itaca.com.br
X-WR-CALDESC:Eventos para Colégio Ítaca
REFRESH-INTERVAL;VALUE=DURATION:PT1H
X-Robots-Tag:noindex
X-PUBLISHED-TTL:PT1H
BEGIN:VTIMEZONE
TZID:America/Sao_Paulo
BEGIN:STANDARD
TZOFFSETFROM:-0300
TZOFFSETTO:-0300
TZNAME:-03
DTSTART:20240101T000000
END:STANDARD
END:VTIMEZONE
BEGIN:VEVENT
DTSTART;VALUE=DATE:20250904
DTEND;VALUE=DATE:20250905
DTSTAMP:20260421T094307
CREATED:20241220T181236Z
LAST-MODIFIED:20250125T153544Z
UID:8635-1756944000-1757030399@itaca.com.br
SUMMARY:9EF - SAÍDA DE ESTUDO - Lugares de memória e cultura negra  (data a definir no período)
DESCRIPTION:
URL:https://itaca.com.br/agenda/9ef-saida-de-estudo-lugares-de-memoria-e-cultura-negra-data-a-definir-no-periodo/
LOCATION:Ensino Fundamental 2
CATEGORIES:Atividades externas
END:VEVENT
BEGIN:VEVENT
DTSTART;VALUE=DATE:20250915
DTEND;VALUE=DATE:20250916
DTSTAMP:20260421T094307
CREATED:20241220T181834Z
LAST-MODIFIED:20241220T181834Z
UID:8647-1757894400-1757980799@itaca.com.br
SUMMARY:Instituto Tambor 2º EM (data indicativa)
DESCRIPTION:
URL:https://itaca.com.br/agenda/instituto-tambor-2o-em-data-indicativa/
LOCATION:Ensino Médio
CATEGORIES:Atividades externas
END:VEVENT
END:VCALENDAR