BEGIN:VCALENDAR
VERSION:2.0
PRODID:-//Colégio Ítaca - ECPv6.15.20//NONSGML v1.0//EN
CALSCALE:GREGORIAN
METHOD:PUBLISH
X-WR-CALNAME:Colégio Ítaca
X-ORIGINAL-URL:https://itaca.com.br
X-WR-CALDESC:Eventos para Colégio Ítaca
REFRESH-INTERVAL;VALUE=DURATION:PT1H
X-Robots-Tag:noindex
X-PUBLISHED-TTL:PT1H
BEGIN:VTIMEZONE
TZID:America/Sao_Paulo
BEGIN:STANDARD
TZOFFSETFROM:-0300
TZOFFSETTO:-0300
TZNAME:-03
DTSTART:20250101T000000
END:STANDARD
END:VTIMEZONE
BEGIN:VEVENT
DTSTART;VALUE=DATE:20260818
DTEND;VALUE=DATE:20260822
DTSTAMP:20260421T021111
CREATED:20260109T184225Z
LAST-MODIFIED:20260109T184225Z
UID:12031-1787011200-1787356799@itaca.com.br
SUMMARY:Estudo do Meio: Petar | 1º ano EM
DESCRIPTION:
URL:https://itaca.com.br/agenda/estudo-do-meio-petar-1o-ano-em/
LOCATION:Ensino Médio
CATEGORIES:Atividades externas
END:VEVENT
END:VCALENDAR