BEGIN:VCALENDAR
VERSION:2.0
PRODID:-//Colégio Ítaca - ECPv6.15.20//NONSGML v1.0//EN
CALSCALE:GREGORIAN
METHOD:PUBLISH
X-WR-CALNAME:Colégio Ítaca
X-ORIGINAL-URL:https://itaca.com.br
X-WR-CALDESC:Eventos para Colégio Ítaca
REFRESH-INTERVAL;VALUE=DURATION:PT1H
X-Robots-Tag:noindex
X-PUBLISHED-TTL:PT1H
BEGIN:VTIMEZONE
TZID:America/Sao_Paulo
BEGIN:STANDARD
TZOFFSETFROM:-0300
TZOFFSETTO:-0300
TZNAME:-03
DTSTART:20250101T000000
END:STANDARD
END:VTIMEZONE
BEGIN:VEVENT
DTSTART;VALUE=DATE:20261002
DTEND;VALUE=DATE:20261003
DTSTAMP:20260421T055916
CREATED:20260111T150808Z
LAST-MODIFIED:20260111T150808Z
UID:12102-1790899200-1790985599@itaca.com.br
SUMMARY:Saída de Estudo: Campo de futebol e Chácara do Jóquei | 6º ano EF2
DESCRIPTION:
URL:https://itaca.com.br/agenda/saida-de-estudo-campo-de-futebol-e-chacara-do-joquei-6o-ano-ef2/
LOCATION:Ensino Fundamental 2
CATEGORIES:Atividades externas
END:VEVENT
END:VCALENDAR