BEGIN:VCALENDAR
VERSION:2.0
PRODID:-//Colégio Ítaca - ECPv6.15.20//NONSGML v1.0//EN
CALSCALE:GREGORIAN
METHOD:PUBLISH
X-WR-CALNAME:Colégio Ítaca
X-ORIGINAL-URL:https://itaca.com.br
X-WR-CALDESC:Eventos para Colégio Ítaca
REFRESH-INTERVAL;VALUE=DURATION:PT1H
X-Robots-Tag:noindex
X-PUBLISHED-TTL:PT1H
BEGIN:VTIMEZONE
TZID:America/Sao_Paulo
BEGIN:STANDARD
TZOFFSETFROM:-0300
TZOFFSETTO:-0300
TZNAME:-03
DTSTART:20250101T000000
END:STANDARD
END:VTIMEZONE
BEGIN:VEVENT
DTSTART;VALUE=DATE:20260422
DTEND;VALUE=DATE:20260423
DTSTAMP:20260420T211125
CREATED:20260413T154441Z
LAST-MODIFIED:20260416T190909Z
UID:12405-1776816000-1776902399@itaca.com.br
SUMMARY:Saída de Estudo: fronteiras e diversidade religiosa | 8º ano EF2
DESCRIPTION:
URL:https://itaca.com.br/agenda/saida-de-estudo-fronteiras-e-diversidade-religiosa-8o-ano-ef2-data-indicativa/
LOCATION:Ensino Fundamental 2
CATEGORIES:Atividades externas
END:VEVENT
BEGIN:VEVENT
DTSTART;VALUE=DATE:20260427
DTEND;VALUE=DATE:20260429
DTSTAMP:20260420T211125
CREATED:20260108T173310Z
LAST-MODIFIED:20260108T173310Z
UID:11896-1777248000-1777420799@itaca.com.br
SUMMARY:Estudo do Meio - CSN | 3º ano EM
DESCRIPTION:
URL:https://itaca.com.br/agenda/estudo-do-meio-csn-3o-ano-em/
LOCATION:Ensino Médio
CATEGORIES:Atividades externas
END:VEVENT
END:VCALENDAR