BEGIN:VCALENDAR
VERSION:2.0
PRODID:-//Colégio Ítaca - ECPv6.15.20//NONSGML v1.0//EN
CALSCALE:GREGORIAN
METHOD:PUBLISH
X-WR-CALNAME:Colégio Ítaca
X-ORIGINAL-URL:https://itaca.com.br
X-WR-CALDESC:Eventos para Colégio Ítaca
REFRESH-INTERVAL;VALUE=DURATION:PT1H
X-Robots-Tag:noindex
X-PUBLISHED-TTL:PT1H
BEGIN:VTIMEZONE
TZID:America/Sao_Paulo
BEGIN:STANDARD
TZOFFSETFROM:-0300
TZOFFSETTO:-0300
TZNAME:-03
DTSTART:20230101T000000
END:STANDARD
END:VTIMEZONE
BEGIN:VEVENT
DTSTART;TZID=America/Sao_Paulo:20241001T080000
DTEND;TZID=America/Sao_Paulo:20241001T170000
DTSTAMP:20260425T101718
CREATED:20240702T181839Z
LAST-MODIFIED:20240822T201520Z
UID:5381-1727769600-1727802000@itaca.com.br
SUMMARY:Entrega relatórios 1/2/3 EF
DESCRIPTION:
URL:https://itaca.com.br/agenda/boletins-e-relatorios-2/
LOCATION:Ensino Fundamental 1
CATEGORIES:Boletins e relatórios
END:VEVENT
BEGIN:VEVENT
DTSTART;TZID=America/Sao_Paulo:20241003T170000
DTEND;TZID=America/Sao_Paulo:20241003T170000
DTSTAMP:20260425T101718
CREATED:20240702T204046Z
LAST-MODIFIED:20240823T214147Z
UID:5450-1727974800-1727974800@itaca.com.br
SUMMARY:Publicação de Notas 3o bi - EF2
DESCRIPTION:
URL:https://itaca.com.br/agenda/boletins-e-relatorios-5/
LOCATION:Ensino Fundamental 2
CATEGORIES:Boletins e relatórios
END:VEVENT
BEGIN:VEVENT
DTSTART;TZID=America/Sao_Paulo:20241003T173000
DTEND;TZID=America/Sao_Paulo:20241003T220000
DTSTAMP:20260425T101718
CREATED:20240702T181828Z
LAST-MODIFIED:20240823T222139Z
UID:5380-1727976600-1727992800@itaca.com.br
SUMMARY:Publicação de Notas 3o bi – 4º e 5º EF1
DESCRIPTION:
URL:https://itaca.com.br/agenda/boletins-e-relatorios/
LOCATION:Ensino Fundamental 1
CATEGORIES:Boletins e relatórios
END:VEVENT
BEGIN:VEVENT
DTSTART;TZID=America/Sao_Paulo:20241004T170000
DTEND;TZID=America/Sao_Paulo:20241004T170000
DTSTAMP:20260425T101718
CREATED:20240702T211917Z
LAST-MODIFIED:20240823T224744Z
UID:5504-1728061200-1728061200@itaca.com.br
SUMMARY:Publicação Notas 3º bi EM
DESCRIPTION:
URL:https://itaca.com.br/agenda/boletins-e-relatorios-7/
LOCATION:Ensino Médio
CATEGORIES:Boletins e relatórios
END:VEVENT
END:VCALENDAR