BEGIN:VCALENDAR
VERSION:2.0
PRODID:-//Colégio Ítaca - ECPv6.15.20//NONSGML v1.0//EN
CALSCALE:GREGORIAN
METHOD:PUBLISH
X-WR-CALNAME:Colégio Ítaca
X-ORIGINAL-URL:https://itaca.com.br
X-WR-CALDESC:Eventos para Colégio Ítaca
REFRESH-INTERVAL;VALUE=DURATION:PT1H
X-Robots-Tag:noindex
X-PUBLISHED-TTL:PT1H
BEGIN:VTIMEZONE
TZID:America/Sao_Paulo
BEGIN:STANDARD
TZOFFSETFROM:-0300
TZOFFSETTO:-0300
TZNAME:-03
DTSTART:20240101T000000
END:STANDARD
END:VTIMEZONE
BEGIN:VEVENT
DTSTART;TZID=America/Sao_Paulo:20250416T170000
DTEND;TZID=America/Sao_Paulo:20250416T170000
DTSTAMP:20260425T004918
CREATED:20241219T195852Z
LAST-MODIFIED:20241219T195852Z
UID:8503-1744822800-1744822800@itaca.com.br
SUMMARY:17h - Publicação Notas 1bi - EF2
DESCRIPTION:
URL:https://itaca.com.br/agenda/17h-publicacao-notas-1bi-ef2/
LOCATION:Ensino Fundamental 2
CATEGORIES:Boletins e relatórios
END:VEVENT
BEGIN:VEVENT
DTSTART;TZID=America/Sao_Paulo:20250416T160000
DTEND;TZID=America/Sao_Paulo:20250416T170000
DTSTAMP:20260425T004918
CREATED:20241219T195845Z
LAST-MODIFIED:20241219T195845Z
UID:8507-1744819200-1744822800@itaca.com.br
SUMMARY:Publicação notas 1º bi EM (16h)
DESCRIPTION:
URL:https://itaca.com.br/agenda/publicacao-notas-1o-bi-em-16h/
LOCATION:Ensino Médio
CATEGORIES:Boletins e relatórios
END:VEVENT
BEGIN:VEVENT
DTSTART;TZID=America/Sao_Paulo:20250416T170000
DTEND;TZID=America/Sao_Paulo:20250416T170000
DTSTAMP:20260425T004918
CREATED:20241219T195901Z
LAST-MODIFIED:20241219T195901Z
UID:8505-1744822800-1744822800@itaca.com.br
SUMMARY:17h - Publicação Notas 1bi - 5 EF1
DESCRIPTION:
URL:https://itaca.com.br/agenda/17h-publicacao-notas-1bi-5-ef1/
LOCATION:Ensino Fundamental 1
CATEGORIES:Boletins e relatórios
END:VEVENT
BEGIN:VEVENT
DTSTART;TZID=America/Sao_Paulo:20250424T000000
DTEND;TZID=America/Sao_Paulo:20250424T000000
DTSTAMP:20260425T004918
CREATED:20241219T200919Z
LAST-MODIFIED:20241219T200919Z
UID:8528-1745452800-1745452800@itaca.com.br
SUMMARY:Entrega relatórios 1/2/3 EF - famílias
DESCRIPTION:
URL:https://itaca.com.br/agenda/entrega-relatorios-1-2-3-ef-familias/
LOCATION:Ensino Fundamental 1
CATEGORIES:Boletins e relatórios
END:VEVENT
END:VCALENDAR