BEGIN:VCALENDAR
VERSION:2.0
PRODID:-//Colégio Ítaca - ECPv6.15.20//NONSGML v1.0//EN
CALSCALE:GREGORIAN
METHOD:PUBLISH
X-ORIGINAL-URL:https://itaca.com.br
X-WR-CALDESC:Eventos para Colégio Ítaca
REFRESH-INTERVAL;VALUE=DURATION:PT1H
X-Robots-Tag:noindex
X-PUBLISHED-TTL:PT1H
BEGIN:VTIMEZONE
TZID:America/Sao_Paulo
BEGIN:STANDARD
TZOFFSETFROM:-0300
TZOFFSETTO:-0300
TZNAME:-03
DTSTART:20240101T000000
END:STANDARD
END:VTIMEZONE
BEGIN:VEVENT
DTSTART;TZID=America/Sao_Paulo:20251002T173000
DTEND;TZID=America/Sao_Paulo:20251002T173000
DTSTAMP:20260424T160503
CREATED:20241220T182603Z
LAST-MODIFIED:20241220T182603Z
UID:8663-1759426200-1759426200@itaca.com.br
SUMMARY:17h30 - Publicação notas 3bi - EF1
DESCRIPTION:
URL:https://itaca.com.br/agenda/17h30-publicacao-notas-3bi-ef1/
LOCATION:Ensino Fundamental 1
CATEGORIES:Boletins e relatórios
END:VEVENT
BEGIN:VEVENT
DTSTART;TZID=America/Sao_Paulo:20251003T170000
DTEND;TZID=America/Sao_Paulo:20251003T170000
DTSTAMP:20260424T160503
CREATED:20241220T182810Z
LAST-MODIFIED:20241220T182810Z
UID:8667-1759510800-1759510800@itaca.com.br
SUMMARY:Publicação Notas 3bi EM (17h)
DESCRIPTION:
URL:https://itaca.com.br/agenda/publicacao-notas-3bi-em-17h/
LOCATION:Ensino Médio
CATEGORIES:Boletins e relatórios
END:VEVENT
BEGIN:VEVENT
DTSTART;TZID=America/Sao_Paulo:20251015T080000
DTEND;TZID=America/Sao_Paulo:20251015T170000
DTSTAMP:20260424T160503
CREATED:20241220T184930Z
LAST-MODIFIED:20241220T184930Z
UID:8687-1760515200-1760547600@itaca.com.br
SUMMARY:Entrega relatórios 1/2/3 EF - famílias
DESCRIPTION:
URL:https://itaca.com.br/agenda/entrega-relatorios-1-2-3-ef-familias-3/
LOCATION:Ensino Fundamental 1
CATEGORIES:Boletins e relatórios
END:VEVENT
END:VCALENDAR