BEGIN:VCALENDAR
VERSION:2.0
PRODID:-//Colégio Ítaca - ECPv6.15.20//NONSGML v1.0//EN
CALSCALE:GREGORIAN
METHOD:PUBLISH
X-WR-CALNAME:Colégio Ítaca
X-ORIGINAL-URL:https://itaca.com.br
X-WR-CALDESC:Eventos para Colégio Ítaca
REFRESH-INTERVAL;VALUE=DURATION:PT1H
X-Robots-Tag:noindex
X-PUBLISHED-TTL:PT1H
BEGIN:VTIMEZONE
TZID:America/Sao_Paulo
BEGIN:STANDARD
TZOFFSETFROM:-0300
TZOFFSETTO:-0300
TZNAME:-03
DTSTART:20240101T000000
END:STANDARD
END:VTIMEZONE
BEGIN:VEVENT
DTSTART;TZID=America/Sao_Paulo:20251126T000000
DTEND;TZID=America/Sao_Paulo:20251126T000000
DTSTAMP:20260424T144107
CREATED:20241220T185918Z
LAST-MODIFIED:20250108T233917Z
UID:8713-1764115200-1764115200@itaca.com.br
SUMMARY:Publicação dos Resultados 3º EM - 17h
DESCRIPTION:
URL:https://itaca.com.br/agenda/publicacao-dos-resultados-3o-em-17h/
LOCATION:Ensino Médio
CATEGORIES:Boletins e relatórios
END:VEVENT
END:VCALENDAR