BEGIN:VCALENDAR
VERSION:2.0
PRODID:-//Colégio Ítaca - ECPv6.15.20//NONSGML v1.0//EN
CALSCALE:GREGORIAN
METHOD:PUBLISH
X-WR-CALNAME:Colégio Ítaca
X-ORIGINAL-URL:https://itaca.com.br
X-WR-CALDESC:Eventos para Colégio Ítaca
REFRESH-INTERVAL;VALUE=DURATION:PT1H
X-Robots-Tag:noindex
X-PUBLISHED-TTL:PT1H
BEGIN:VTIMEZONE
TZID:America/Sao_Paulo
BEGIN:STANDARD
TZOFFSETFROM:-0300
TZOFFSETTO:-0300
TZNAME:-03
DTSTART:20240101T000000
END:STANDARD
END:VTIMEZONE
BEGIN:VEVENT
DTSTART;TZID=America/Sao_Paulo:20251209T000000
DTEND;TZID=America/Sao_Paulo:20251209T000000
DTSTAMP:20260424T130024
CREATED:20241220T030040Z
LAST-MODIFIED:20250108T233513Z
UID:8737-1765238400-1765238400@itaca.com.br
SUMMARY:Entrega relatórios 1/2/3 EF - famílias
DESCRIPTION:
URL:https://itaca.com.br/agenda/entrega-relatorios-1-2-3-ef-familias-4/
LOCATION:Ensino Fundamental 1
CATEGORIES:Boletins e relatórios
END:VEVENT
BEGIN:VEVENT
DTSTART;TZID=America/Sao_Paulo:20251211T000000
DTEND;TZID=America/Sao_Paulo:20251211T000000
DTSTAMP:20260424T130024
CREATED:20241220T030039Z
LAST-MODIFIED:20250108T233605Z
UID:8739-1765411200-1765411200@itaca.com.br
SUMMARY:a partir 17h - Public. resultados finais - EF2
DESCRIPTION:
URL:https://itaca.com.br/agenda/a-partir-17h-public-resultados-finais-ef2/
LOCATION:Ensino Fundamental 2
CATEGORIES:Boletins e relatórios
END:VEVENT
BEGIN:VEVENT
DTSTART;TZID=America/Sao_Paulo:20251211T170000
DTEND;TZID=America/Sao_Paulo:20251211T170000
DTSTAMP:20260424T130024
CREATED:20241220T030022Z
LAST-MODIFIED:20250108T233407Z
UID:8743-1765472400-1765472400@itaca.com.br
SUMMARY:Publicação resultados finais 1 e 2 EM (17h)
DESCRIPTION:
URL:https://itaca.com.br/agenda/publicacao-resultados-finais-1-e-2-em-17h/
LOCATION:Ensino Médio
CATEGORIES:Boletins e relatórios
END:VEVENT
BEGIN:VEVENT
DTSTART;TZID=America/Sao_Paulo:20251211T170000
DTEND;TZID=America/Sao_Paulo:20251211T170000
DTSTAMP:20260424T130024
CREATED:20241220T030027Z
LAST-MODIFIED:20250108T233420Z
UID:8741-1765472400-1765472400@itaca.com.br
SUMMARY:17h - Publicação notas 4bi - EF1
DESCRIPTION:
URL:https://itaca.com.br/agenda/17h-publicacao-notas-4bi-ef1/
LOCATION:Ensino Fundamental 1
CATEGORIES:Boletins e relatórios
END:VEVENT
END:VCALENDAR