BEGIN:VCALENDAR
VERSION:2.0
PRODID:-//Colégio Ítaca - ECPv6.15.20//NONSGML v1.0//EN
CALSCALE:GREGORIAN
METHOD:PUBLISH
X-WR-CALNAME:Colégio Ítaca
X-ORIGINAL-URL:https://itaca.com.br
X-WR-CALDESC:Eventos para Colégio Ítaca
REFRESH-INTERVAL;VALUE=DURATION:PT1H
X-Robots-Tag:noindex
X-PUBLISHED-TTL:PT1H
BEGIN:VTIMEZONE
TZID:America/Sao_Paulo
BEGIN:STANDARD
TZOFFSETFROM:-0300
TZOFFSETTO:-0300
TZNAME:-03
DTSTART:20250101T000000
END:STANDARD
END:VTIMEZONE
BEGIN:VEVENT
DTSTART;TZID=America/Sao_Paulo:20261001T173000
DTEND;TZID=America/Sao_Paulo:20261001T173000
DTSTAMP:20260424T132342
CREATED:20260111T150339Z
LAST-MODIFIED:20260111T150454Z
UID:12097-1790875800-1790875800@itaca.com.br
SUMMARY:Publicação de Notas 3° bi 17h30 | EF1
DESCRIPTION:
URL:https://itaca.com.br/agenda/publicacao-notas-3-bi-17h30-ef1/
LOCATION:Ensino Fundamental 1
CATEGORIES:Boletins e relatórios
END:VEVENT
BEGIN:VEVENT
DTSTART;TZID=America/Sao_Paulo:20261002T170000
DTEND;TZID=America/Sao_Paulo:20261002T170000
DTSTAMP:20260424T132342
CREATED:20260111T150440Z
LAST-MODIFIED:20260111T150440Z
UID:12099-1790960400-1790960400@itaca.com.br
SUMMARY:Publicação de Notas 3° bi 17h | EF2
DESCRIPTION:
URL:https://itaca.com.br/agenda/publicacao-de-notas-3-bi-17h-ef2/
LOCATION:Ensino Fundamental 2
CATEGORIES:Boletins e relatórios
END:VEVENT
BEGIN:VEVENT
DTSTART;TZID=America/Sao_Paulo:20261002T170000
DTEND;TZID=America/Sao_Paulo:20261002T170000
DTSTAMP:20260424T132342
CREATED:20260111T150915Z
LAST-MODIFIED:20260111T150915Z
UID:12104-1790960400-1790960400@itaca.com.br
SUMMARY:Publicação de Notas 3º bi 17h | EM
DESCRIPTION:
URL:https://itaca.com.br/agenda/publicacao-de-notas-3o-bi-17h-em/
LOCATION:Ensino Médio
CATEGORIES:Boletins e relatórios
END:VEVENT
BEGIN:VEVENT
DTSTART;VALUE=DATE:20261015
DTEND;VALUE=DATE:20261016
DTSTAMP:20260424T132342
CREATED:20260111T152453Z
LAST-MODIFIED:20260111T152500Z
UID:12143-1792022400-1792108799@itaca.com.br
SUMMARY:Entrega de Relatórios | 1°\, 2° e 3° EF1
DESCRIPTION:
URL:https://itaca.com.br/agenda/entrega-relatorios-1-2-e-3-ef1-2/
LOCATION:Ensino Fundamental 1
CATEGORIES:Boletins e relatórios
END:VEVENT
END:VCALENDAR