BEGIN:VCALENDAR
VERSION:2.0
PRODID:-//Colégio Ítaca - ECPv6.15.20//NONSGML v1.0//EN
CALSCALE:GREGORIAN
METHOD:PUBLISH
X-ORIGINAL-URL:https://itaca.com.br
X-WR-CALDESC:Eventos para Colégio Ítaca
REFRESH-INTERVAL;VALUE=DURATION:PT1H
X-Robots-Tag:noindex
X-PUBLISHED-TTL:PT1H
BEGIN:VTIMEZONE
TZID:America/Sao_Paulo
BEGIN:STANDARD
TZOFFSETFROM:-0300
TZOFFSETTO:-0300
TZNAME:-03
DTSTART:20250101T000000
END:STANDARD
END:VTIMEZONE
BEGIN:VEVENT
DTSTART;TZID=America/Sao_Paulo:20261126T170000
DTEND;TZID=America/Sao_Paulo:20261126T170000
DTSTAMP:20260424T145424
CREATED:20260111T154003Z
LAST-MODIFIED:20260111T154003Z
UID:12191-1795712400-1795712400@itaca.com.br
SUMMARY:Publicação dos Resultados Finais 17h | 3º ano EM
DESCRIPTION:
URL:https://itaca.com.br/agenda/publicacao-dos-resultados-finais-17h-3o-ano-em/
LOCATION:Ensino Médio
CATEGORIES:Boletins e relatórios
END:VEVENT
END:VCALENDAR