BEGIN:VCALENDAR
VERSION:2.0
PRODID:-//Colégio Ítaca - ECPv6.15.20//NONSGML v1.0//EN
CALSCALE:GREGORIAN
METHOD:PUBLISH
X-ORIGINAL-URL:https://itaca.com.br
X-WR-CALDESC:Eventos para Colégio Ítaca
REFRESH-INTERVAL;VALUE=DURATION:PT1H
X-Robots-Tag:noindex
X-PUBLISHED-TTL:PT1H
BEGIN:VTIMEZONE
TZID:America/Sao_Paulo
BEGIN:STANDARD
TZOFFSETFROM:-0300
TZOFFSETTO:-0300
TZNAME:-03
DTSTART:20250101T000000
END:STANDARD
END:VTIMEZONE
BEGIN:VEVENT
DTSTART;VALUE=DATE:20261208
DTEND;VALUE=DATE:20261209
DTSTAMP:20260424T163745
CREATED:20260111T155048Z
LAST-MODIFIED:20260111T155048Z
UID:12210-1796688000-1796774399@itaca.com.br
SUMMARY:Entrega de Relatórios | 1°\, 2° e 3° EF1
DESCRIPTION:
URL:https://itaca.com.br/agenda/entrega-de-relatorios-1-2-e-3-ef1/
LOCATION:Ensino Fundamental 1
CATEGORIES:Boletins e relatórios
END:VEVENT
BEGIN:VEVENT
DTSTART;TZID=America/Sao_Paulo:20261211T130000
DTEND;TZID=America/Sao_Paulo:20261211T130000
DTSTAMP:20260424T163745
CREATED:20260111T155851Z
LAST-MODIFIED:20260111T155851Z
UID:12224-1796994000-1796994000@itaca.com.br
SUMMARY:Publicação dos Resultados Finais 13h | EF2
DESCRIPTION:
URL:https://itaca.com.br/agenda/publicacao-dos-resultados-finais-13h-ef2/
LOCATION:Ensino Fundamental 2
CATEGORIES:Boletins e relatórios
END:VEVENT
BEGIN:VEVENT
DTSTART;TZID=America/Sao_Paulo:20261211T130000
DTEND;TZID=America/Sao_Paulo:20261211T130000
DTSTAMP:20260424T163745
CREATED:20260111T155928Z
LAST-MODIFIED:20260111T155928Z
UID:12226-1796994000-1796994000@itaca.com.br
SUMMARY:Publicação dos Resultados Finais 13h | EF1
DESCRIPTION:
URL:https://itaca.com.br/agenda/publicacao-dos-resultados-finais-13h-ef1/
LOCATION:Ensino Fundamental 1
CATEGORIES:Boletins e relatórios
END:VEVENT
BEGIN:VEVENT
DTSTART;TZID=America/Sao_Paulo:20261211T130000
DTEND;TZID=America/Sao_Paulo:20261211T130000
DTSTAMP:20260424T163745
CREATED:20260111T160002Z
LAST-MODIFIED:20260111T160002Z
UID:12228-1796994000-1796994000@itaca.com.br
SUMMARY:Publicação dos Resultados Finais 13h | 1º e 2º EM
DESCRIPTION:
URL:https://itaca.com.br/agenda/publicacao-dos-resultados-finais-13h-1o-e-2o-em/
LOCATION:Ensino Médio
CATEGORIES:Boletins e relatórios
END:VEVENT
END:VCALENDAR