BEGIN:VCALENDAR
VERSION:2.0
PRODID:-//Colégio Ítaca - ECPv6.15.20//NONSGML v1.0//EN
CALSCALE:GREGORIAN
METHOD:PUBLISH
X-ORIGINAL-URL:https://itaca.com.br
X-WR-CALDESC:Eventos para Colégio Ítaca
REFRESH-INTERVAL;VALUE=DURATION:PT1H
X-Robots-Tag:noindex
X-PUBLISHED-TTL:PT1H
BEGIN:VTIMEZONE
TZID:America/Sao_Paulo
BEGIN:STANDARD
TZOFFSETFROM:-0300
TZOFFSETTO:-0300
TZNAME:-03
DTSTART:20230101T000000
END:STANDARD
END:VTIMEZONE
BEGIN:VEVENT
DTSTART;TZID=America/Sao_Paulo:20241105T190000
DTEND;TZID=America/Sao_Paulo:20241105T210000
DTSTAMP:20260421T143226
CREATED:20240702T183037Z
LAST-MODIFIED:20241007T181316Z
UID:5400-1730833200-1730840400@itaca.com.br
SUMMARY:Reunião pais/profs 3EF
DESCRIPTION:
URL:https://itaca.com.br/agenda/reuniao-4/
LOCATION:Ensino Fundamental 1
CATEGORIES:Reuniões
END:VEVENT
BEGIN:VEVENT
DTSTART;TZID=America/Sao_Paulo:20241106T190000
DTEND;TZID=America/Sao_Paulo:20241106T210000
DTSTAMP:20260421T143226
CREATED:20240822T230038Z
LAST-MODIFIED:20241007T181415Z
UID:6240-1730919600-1730926800@itaca.com.br
SUMMARY:Reunião pais/profs 4EF
DESCRIPTION:
URL:https://itaca.com.br/agenda/reuniao-pais-profs-4ef/
LOCATION:Ensino Fundamental 1
CATEGORIES:Reuniões
END:VEVENT
BEGIN:VEVENT
DTSTART;TZID=America/Sao_Paulo:20241109T103000
DTEND;TZID=America/Sao_Paulo:20241109T120000
DTSTAMP:20260421T143226
CREATED:20240702T204303Z
LAST-MODIFIED:20240823T000934Z
UID:5461-1731148200-1731153600@itaca.com.br
SUMMARY:Expressão\, corpo e cultura. Ensaio aberto dos alunos de teatro
DESCRIPTION:
URL:https://itaca.com.br/agenda/expressao-corpo-e-cultura-ensaio-aberto-dos-alunos-de-teatro/
LOCATION:Ensino Fundamental 2
CATEGORIES:Eventos
END:VEVENT
BEGIN:VEVENT
DTSTART;TZID=America/Sao_Paulo:20241109T103000
DTEND;TZID=America/Sao_Paulo:20241109T120000
DTSTAMP:20260421T143226
CREATED:20240702T212100Z
LAST-MODIFIED:20240822T233213Z
UID:5512-1731148200-1731153600@itaca.com.br
SUMMARY:Sábado letivo - Expressão\, Corpo e Cultura EF2 / EM (ensaio aberto dos alunos de teatro)
DESCRIPTION:
URL:https://itaca.com.br/agenda/eventos-20/
LOCATION:Ensino Médio
CATEGORIES:Eventos
END:VEVENT
BEGIN:VEVENT
DTSTART;TZID=America/Sao_Paulo:20241114T080000
DTEND;TZID=America/Sao_Paulo:20241126T170000
DTSTAMP:20260421T143226
CREATED:20240702T212145Z
LAST-MODIFIED:20240822T234805Z
UID:5516-1731571200-1732640400@itaca.com.br
SUMMARY:Provas 4º bi 3º EM
DESCRIPTION:
URL:https://itaca.com.br/agenda/provas-4o-bi-3o-em/
LOCATION:Ensino Médio
CATEGORIES:Provas e Avaliações
END:VEVENT
BEGIN:VEVENT
DTSTART;VALUE=DATE:20241115
DTEND;VALUE=DATE:20241116
DTSTAMP:20260421T143226
CREATED:20240702T183445Z
LAST-MODIFIED:20240823T222352Z
UID:5405-1731628800-1731715199@itaca.com.br
SUMMARY:Feriado Proclamação da República
DESCRIPTION:
URL:https://itaca.com.br/agenda/feriados-2/
LOCATION:Ensino Fundamental 1
CATEGORIES:Feriados
END:VEVENT
BEGIN:VEVENT
DTSTART;VALUE=DATE:20241115
DTEND;VALUE=DATE:20241116
DTSTAMP:20260421T143226
CREATED:20240702T204408Z
LAST-MODIFIED:20240823T001026Z
UID:5465-1731628800-1731715199@itaca.com.br
SUMMARY:Proclamação da República
DESCRIPTION:
URL:https://itaca.com.br/agenda/proclamacao-da-republica/
LOCATION:Ensino Fundamental 2
CATEGORIES:Feriados
END:VEVENT
BEGIN:VEVENT
DTSTART;TZID=America/Sao_Paulo:20241119T080000
DTEND;TZID=America/Sao_Paulo:20241129T170000
DTSTAMP:20260421T143226
CREATED:20240822T230436Z
LAST-MODIFIED:20240822T230436Z
UID:6243-1732003200-1732899600@itaca.com.br
SUMMARY:Acantonamento 4º ao 5º EF - data indicativa
DESCRIPTION:
URL:https://itaca.com.br/agenda/acantonamento-4o-ao-5o-ef-data-indicativa/
LOCATION:Ensino Fundamental 1
CATEGORIES:Eventos
END:VEVENT
BEGIN:VEVENT
DTSTART;VALUE=DATE:20241120
DTEND;VALUE=DATE:20241121
DTSTAMP:20260421T143226
CREATED:20240823T001057Z
LAST-MODIFIED:20240823T001105Z
UID:6330-1732060800-1732147199@itaca.com.br
SUMMARY:Consciência Negra - Feriado
DESCRIPTION:
URL:https://itaca.com.br/agenda/consciencia-negra-feriado/
LOCATION:Ensino Fundamental 2
CATEGORIES:Feriados
END:VEVENT
BEGIN:VEVENT
DTSTART;VALUE=DATE:20241122
DTEND;VALUE=DATE:20241123
DTSTAMP:20260421T143226
CREATED:20240702T204418Z
LAST-MODIFIED:20240823T215609Z
UID:5464-1732233600-1732319999@itaca.com.br
SUMMARY:Término das aulas de reforço
DESCRIPTION:
URL:https://itaca.com.br/agenda/termino-das-aulas-de-reforco/
LOCATION:Ensino Fundamental 2
CATEGORIES:Estudos e recuperação
END:VEVENT
BEGIN:VEVENT
DTSTART;VALUE=DATE:20241122
DTEND;VALUE=DATE:20241123
DTSTAMP:20260421T143226
CREATED:20240702T212213Z
LAST-MODIFIED:20240823T225225Z
UID:5519-1732233600-1732319999@itaca.com.br
SUMMARY:Término das aulas de reforço
DESCRIPTION:
URL:https://itaca.com.br/agenda/estudos-e-recuperacao-8/
LOCATION:Ensino Médio
CATEGORIES:Estudos e recuperação
END:VEVENT
BEGIN:VEVENT
DTSTART;VALUE=DATE:20241123
DTEND;VALUE=DATE:20241124
DTSTAMP:20260421T143226
CREATED:20240822T233424Z
LAST-MODIFIED:20240823T225729Z
UID:6280-1732320000-1732406399@itaca.com.br
SUMMARY:Sábado letivo- Aplicação simulado espanhol - DELE - 8/9 EF + EM
DESCRIPTION:
URL:https://itaca.com.br/agenda/sabado-letivo-aplicacao-simulado-espanhol-dele-8-9-ef-em-retirar-provas-e-avaliacoes/
LOCATION:Ensino Médio
CATEGORIES:Eventos
END:VEVENT
BEGIN:VEVENT
DTSTART;VALUE=DATE:20241123
DTEND;VALUE=DATE:20241124
DTSTAMP:20260421T143226
CREATED:20240823T001201Z
LAST-MODIFIED:20240823T001215Z
UID:6333-1732320000-1732406399@itaca.com.br
SUMMARY:Sábado letivo- Aplicação simulado espanhol - DELE - 8/9 EF + EM
DESCRIPTION:
URL:https://itaca.com.br/agenda/sabado-letivo-aplicacao-simulado-espanhol-dele-8-9-ef-em/
LOCATION:Ensino Fundamental 2
CATEGORIES:Eventos
END:VEVENT
BEGIN:VEVENT
DTSTART;TZID=America/Sao_Paulo:20241123T080000
DTEND;TZID=America/Sao_Paulo:20241123T170000
DTSTAMP:20260421T143226
CREATED:20240702T204521Z
LAST-MODIFIED:20240702T204521Z
UID:5468-1732348800-1732381200@itaca.com.br
SUMMARY:Provas e avaliações
DESCRIPTION:
URL:https://itaca.com.br/agenda/provas-e-avaliacoes-8/
LOCATION:Ensino Fundamental 2
CATEGORIES:Provas e Avaliações
END:VEVENT
BEGIN:VEVENT
DTSTART;TZID=America/Sao_Paulo:20241128T080000
DTEND;TZID=America/Sao_Paulo:20241129T170000
DTSTAMP:20260421T143226
CREATED:20240822T230606Z
LAST-MODIFIED:20240822T230606Z
UID:6247-1732780800-1732899600@itaca.com.br
SUMMARY:Provas 4º bi - 4/5EF1
DESCRIPTION:
URL:https://itaca.com.br/agenda/provas-4o-bi-4-5ef1/
LOCATION:Ensino Fundamental 1
CATEGORIES:Provas e Avaliações
END:VEVENT
BEGIN:VEVENT
DTSTART;TZID=America/Sao_Paulo:20241129T170000
DTEND;TZID=America/Sao_Paulo:20241129T170000
DTSTAMP:20260421T143226
CREATED:20240822T233703Z
LAST-MODIFIED:20240823T232806Z
UID:6284-1732899600-1732899600@itaca.com.br
SUMMARY:Publicação resultados finais - 3º EM
DESCRIPTION:
URL:https://itaca.com.br/agenda/publicacao-resultados-finais-3o-em/
LOCATION:Ensino Médio
CATEGORIES:Boletins e relatórios
END:VEVENT
BEGIN:VEVENT
DTSTART;TZID=America/Sao_Paulo:20241129T190000
DTEND;TZID=America/Sao_Paulo:20241129T190000
DTSTAMP:20260421T143226
CREATED:20240702T212256Z
LAST-MODIFIED:20240823T225935Z
UID:5523-1732906800-1732906800@itaca.com.br
SUMMARY:Apresentação final - Teatro e violão EF2 / EM
DESCRIPTION:
URL:https://itaca.com.br/agenda/eventos-22/
LOCATION:Ensino Médio
CATEGORIES:Eventos
END:VEVENT
BEGIN:VEVENT
DTSTART;TZID=America/Sao_Paulo:20241129T190000
DTEND;TZID=America/Sao_Paulo:20241129T220000
DTSTAMP:20260421T143226
CREATED:20240702T204528Z
LAST-MODIFIED:20240823T001249Z
UID:5469-1732906800-1732917600@itaca.com.br
SUMMARY:Apresentação final - Teatro e violão EF2 / EM
DESCRIPTION:
URL:https://itaca.com.br/agenda/apresentacao-final-teatro-e-violao-ef2-em/
LOCATION:Ensino Fundamental 2
CATEGORIES:Eventos
END:VEVENT
BEGIN:VEVENT
DTSTART;VALUE=DATE:20241202
DTEND;VALUE=DATE:20241207
DTSTAMP:20260421T143226
CREATED:20240702T212313Z
LAST-MODIFIED:20240823T230040Z
UID:5524-1733097600-1733529599@itaca.com.br
SUMMARY:Provas 4ºbi - 1º e 2º EM
DESCRIPTION:
URL:https://itaca.com.br/agenda/provas-e-avaliacoes-19/
LOCATION:Ensino Médio
CATEGORIES:Provas e Avaliações
END:VEVENT
BEGIN:VEVENT
DTSTART;TZID=America/Sao_Paulo:20241202T080000
DTEND;TZID=America/Sao_Paulo:20241206T170000
DTSTAMP:20260421T143226
CREATED:20240702T183654Z
LAST-MODIFIED:20240822T230655Z
UID:5412-1733126400-1733504400@itaca.com.br
SUMMARY:Provas 4º bi - 4/5EF1
DESCRIPTION:
URL:https://itaca.com.br/agenda/provas-e-avaliacoes-5/
LOCATION:Ensino Fundamental 1
CATEGORIES:Provas e Avaliações
END:VEVENT
BEGIN:VEVENT
DTSTART;TZID=America/Sao_Paulo:20241202T080000
DTEND;TZID=America/Sao_Paulo:20241209T170000
DTSTAMP:20260421T143226
CREATED:20240702T204555Z
LAST-MODIFIED:20240823T001327Z
UID:5472-1733126400-1733763600@itaca.com.br
SUMMARY:Provas 4º bi EF2
DESCRIPTION:
URL:https://itaca.com.br/agenda/provas-4o-bi-ef2/
LOCATION:Ensino Fundamental 2
CATEGORIES:Provas e Avaliações
END:VEVENT
BEGIN:VEVENT
DTSTART;VALUE=DATE:20241206
DTEND;VALUE=DATE:20241207
DTSTAMP:20260421T143226
CREATED:20240702T212352Z
LAST-MODIFIED:20240823T230044Z
UID:5527-1733443200-1733529599@itaca.com.br
SUMMARY:Formatura 3º EM
DESCRIPTION:
URL:https://itaca.com.br/agenda/eventos-23/
LOCATION:Ensino Médio
CATEGORIES:Eventos
END:VEVENT
BEGIN:VEVENT
DTSTART;TZID=America/Sao_Paulo:20241207T080000
DTEND;TZID=America/Sao_Paulo:20241207T170000
DTSTAMP:20260421T143226
CREATED:20240702T183738Z
LAST-MODIFIED:20240822T230744Z
UID:5414-1733558400-1733590800@itaca.com.br
SUMMARY:Sábado letivo - Evento final EF1
DESCRIPTION:
URL:https://itaca.com.br/agenda/eventos-6/
LOCATION:Ensino Fundamental 1
CATEGORIES:Eventos
END:VEVENT
BEGIN:VEVENT
DTSTART;VALUE=DATE:20241209
DTEND;VALUE=DATE:20241210
DTSTAMP:20260421T143226
CREATED:20240702T204636Z
LAST-MODIFIED:20240823T001405Z
UID:5476-1733702400-1733788799@itaca.com.br
SUMMARY:Último dia letivo lanche coletivo EF2
DESCRIPTION:
URL:https://itaca.com.br/agenda/ultimo-dia-letivo-lanche-coletivo-ef2/
LOCATION:Ensino Fundamental 2
CATEGORIES:Eventos
END:VEVENT
BEGIN:VEVENT
DTSTART;TZID=America/Sao_Paulo:20241209T080000
DTEND;TZID=America/Sao_Paulo:20241209T170000
DTSTAMP:20260421T143226
CREATED:20240702T183752Z
LAST-MODIFIED:20240822T230804Z
UID:5415-1733731200-1733763600@itaca.com.br
SUMMARY:Último dia letivo e Lanche coletivo EF1
DESCRIPTION:
URL:https://itaca.com.br/agenda/eventos-7/
LOCATION:Ensino Fundamental 1
CATEGORIES:Eventos
END:VEVENT
BEGIN:VEVENT
DTSTART;TZID=America/Sao_Paulo:20241209T080000
DTEND;TZID=America/Sao_Paulo:20241209T170000
DTSTAMP:20260421T143226
CREATED:20240702T183851Z
LAST-MODIFIED:20240822T230918Z
UID:5419-1733731200-1733763600@itaca.com.br
SUMMARY:Entrega relatórios 1/2/3 EF1
DESCRIPTION:
URL:https://itaca.com.br/agenda/boletins-e-relatorios-3/
LOCATION:Ensino Fundamental 1
CATEGORIES:Boletins e relatórios
END:VEVENT
BEGIN:VEVENT
DTSTART;TZID=America/Sao_Paulo:20241209T080000
DTEND;TZID=America/Sao_Paulo:20241209T170000
DTSTAMP:20260421T143226
CREATED:20240702T183900Z
LAST-MODIFIED:20240822T230701Z
UID:5418-1733731200-1733763600@itaca.com.br
SUMMARY:Provas 4º bi - 4/5EF1
DESCRIPTION:
URL:https://itaca.com.br/agenda/provas-e-avaliacoes-6/
LOCATION:Ensino Fundamental 1
CATEGORIES:Provas e Avaliações
END:VEVENT
BEGIN:VEVENT
DTSTART;TZID=America/Sao_Paulo:20241209T080000
DTEND;TZID=America/Sao_Paulo:20241209T170000
DTSTAMP:20260421T143226
CREATED:20240702T212428Z
LAST-MODIFIED:20240822T233735Z
UID:5531-1733731200-1733763600@itaca.com.br
SUMMARY:Provas 4ºbi - 1º e 2º EM
DESCRIPTION:
URL:https://itaca.com.br/agenda/provas-e-avaliacoes-20/
LOCATION:Ensino Médio
CATEGORIES:Provas e Avaliações
END:VEVENT
BEGIN:VEVENT
DTSTART;TZID=America/Sao_Paulo:20241211T173000
DTEND;TZID=America/Sao_Paulo:20241211T220000
DTSTAMP:20260421T143226
CREATED:20240702T184026Z
LAST-MODIFIED:20240823T222426Z
UID:5422-1733938200-1733954400@itaca.com.br
SUMMARY:Publicação de Notas 4o bi - EF1
DESCRIPTION:
URL:https://itaca.com.br/agenda/boletins-e-relatorios-4/
LOCATION:Ensino Fundamental 1
CATEGORIES:Boletins e relatórios
END:VEVENT
BEGIN:VEVENT
DTSTART;TZID=America/Sao_Paulo:20241212T170000
DTEND;TZID=America/Sao_Paulo:20241212T170000
DTSTAMP:20260421T143226
CREATED:20240702T204657Z
LAST-MODIFIED:20240823T233346Z
UID:5478-1734022800-1734022800@itaca.com.br
SUMMARY:Publicação de resultados finais EF
DESCRIPTION:
URL:https://itaca.com.br/agenda/publicacao-de-resultados-finais-ef/
LOCATION:Ensino Fundamental 2
CATEGORIES:Boletins e relatórios
END:VEVENT
END:VCALENDAR