BEGIN:VCALENDAR
VERSION:2.0
PRODID:-//Colégio Ítaca - ECPv6.15.20//NONSGML v1.0//EN
CALSCALE:GREGORIAN
METHOD:PUBLISH
X-ORIGINAL-URL:https://itaca.com.br
X-WR-CALDESC:Eventos para Colégio Ítaca
REFRESH-INTERVAL;VALUE=DURATION:PT1H
X-Robots-Tag:noindex
X-PUBLISHED-TTL:PT1H
BEGIN:VTIMEZONE
TZID:America/Sao_Paulo
BEGIN:STANDARD
TZOFFSETFROM:-0300
TZOFFSETTO:-0300
TZNAME:-03
DTSTART:20240101T000000
END:STANDARD
END:VTIMEZONE
BEGIN:VEVENT
DTSTART;TZID=America/Sao_Paulo:20250125T080000
DTEND;TZID=America/Sao_Paulo:20250125T170000
DTSTAMP:20260421T110319
CREATED:20250125T141157Z
LAST-MODIFIED:20250125T141157Z
UID:9307-1737792000-1737824400@itaca.com.br
SUMMARY:13h40 - Oficina de ferramentas digitais para 6/7 EF2
DESCRIPTION:
URL:https://itaca.com.br/agenda/13h40-oficina-de-ferramentas-digitais-para-6-7-ef2/
LOCATION:Ensino Fundamental 2
CATEGORIES:Eventos
END:VEVENT
BEGIN:VEVENT
DTSTART;TZID=America/Sao_Paulo:20250125T080000
DTEND;TZID=America/Sao_Paulo:20250125T170000
DTSTAMP:20260421T110319
CREATED:20250125T145045Z
LAST-MODIFIED:20250125T145225Z
UID:9311-1737792000-1737824400@itaca.com.br
SUMMARY:Início reforço LP e Ing EM (à tarde)
DESCRIPTION:
URL:https://itaca.com.br/agenda/inicio-reforco-lp-e-ing-em-a-tarde-2/
LOCATION:Ensino Médio
CATEGORIES:Estudos e recuperação
END:VEVENT
BEGIN:VEVENT
DTSTART;TZID=America/Sao_Paulo:20250127T190000
DTEND;TZID=America/Sao_Paulo:20250127T190000
DTSTAMP:20260421T110319
CREATED:20241219T200231Z
LAST-MODIFIED:20250125T134013Z
UID:8412-1738004400-1738004400@itaca.com.br
SUMMARY:19h- Reunião pais/profs 1EF
DESCRIPTION:
URL:https://itaca.com.br/agenda/19h-reuniao-pais-profs-1ef/
LOCATION:Ensino Fundamental 1
CATEGORIES:Reuniões
END:VEVENT
BEGIN:VEVENT
DTSTART;TZID=America/Sao_Paulo:20250129T190000
DTEND;TZID=America/Sao_Paulo:20250129T200000
DTSTAMP:20260421T110319
CREATED:20241219T200238Z
LAST-MODIFIED:20241219T200238Z
UID:8424-1738177200-1738180800@itaca.com.br
SUMMARY:19h- Reunião pais/profs 2EF
DESCRIPTION:
URL:https://itaca.com.br/agenda/19h-reuniao-pais-profs-2ef/
LOCATION:Ensino Fundamental 1
CATEGORIES:Reuniões
END:VEVENT
BEGIN:VEVENT
DTSTART;VALUE=DATE:20250130
DTEND;VALUE=DATE:20250131
DTSTAMP:20260421T110319
CREATED:20241219T195927Z
LAST-MODIFIED:20241219T195927Z
UID:8426-1738195200-1738281599@itaca.com.br
SUMMARY:Início 1º bimestre (1/2 EF)
DESCRIPTION:
URL:https://itaca.com.br/agenda/inicio-1o-bimestre-1-2-ef/
LOCATION:Ensino Fundamental 1
CATEGORIES:Eventos
END:VEVENT
BEGIN:VEVENT
DTSTART;TZID=America/Sao_Paulo:20250130T080000
DTEND;TZID=America/Sao_Paulo:20250130T170000
DTSTAMP:20260421T110319
CREATED:20241219T195932Z
LAST-MODIFIED:20241219T195932Z
UID:8429-1738224000-1738256400@itaca.com.br
SUMMARY:Oficinas 1º e 2º EF
DESCRIPTION:
URL:https://itaca.com.br/agenda/oficinas-1o-e-2o-ef/
LOCATION:Ensino Fundamental 1
CATEGORIES:Eventos
END:VEVENT
BEGIN:VEVENT
DTSTART;TZID=America/Sao_Paulo:20250131T080000
DTEND;TZID=America/Sao_Paulo:20250131T170000
DTSTAMP:20260421T110319
CREATED:20241219T195937Z
LAST-MODIFIED:20241219T195937Z
UID:8431-1738310400-1738342800@itaca.com.br
SUMMARY:Oficinas 1º e 2º EF
DESCRIPTION:
URL:https://itaca.com.br/agenda/oficinas-1o-e-2o-ef-2/
LOCATION:Ensino Fundamental 1
CATEGORIES:Eventos
END:VEVENT
BEGIN:VEVENT
DTSTART;VALUE=DATE:20250203
DTEND;VALUE=DATE:20250204
DTSTAMP:20260421T110319
CREATED:20241219T195955Z
LAST-MODIFIED:20250125T140335Z
UID:8433-1738540800-1738627199@itaca.com.br
SUMMARY:Início aulas 3º EF - 3º EM
DESCRIPTION:
URL:https://itaca.com.br/agenda/inicio-aulas-3o-ef-3o-em-3/
LOCATION:Ensino Fundamental 1
CATEGORIES:Eventos
END:VEVENT
BEGIN:VEVENT
DTSTART;TZID=America/Sao_Paulo:20250203T190000
DTEND;TZID=America/Sao_Paulo:20250203T200000
DTSTAMP:20260421T110319
CREATED:20241219T195958Z
LAST-MODIFIED:20241219T195958Z
UID:8438-1738609200-1738612800@itaca.com.br
SUMMARY:19h - Reunião pais/profs 6EF
DESCRIPTION:
URL:https://itaca.com.br/agenda/19h-reuniao-pais-profs-6ef/
LOCATION:Ensino Fundamental 2
CATEGORIES:Reuniões
END:VEVENT
BEGIN:VEVENT
DTSTART;TZID=America/Sao_Paulo:20250205T190000
DTEND;TZID=America/Sao_Paulo:20250205T200000
DTSTAMP:20260421T110319
CREATED:20241219T200004Z
LAST-MODIFIED:20241219T200004Z
UID:8440-1738782000-1738785600@itaca.com.br
SUMMARY:19h - Reunião pais/profs 3EF
DESCRIPTION:
URL:https://itaca.com.br/agenda/19h-reuniao-pais-profs-3ef/
LOCATION:Ensino Fundamental 1
CATEGORIES:Reuniões
END:VEVENT
BEGIN:VEVENT
DTSTART;TZID=America/Sao_Paulo:20250208T090000
DTEND;TZID=America/Sao_Paulo:20250208T100000
DTSTAMP:20260421T110319
CREATED:20241219T200009Z
LAST-MODIFIED:20241219T200009Z
UID:8442-1739005200-1739008800@itaca.com.br
SUMMARY:9h - Reunião pais/coord (2EM; 3EM e 1EM)
DESCRIPTION:
URL:https://itaca.com.br/agenda/9h-reuniao-pais-coord-2em-3em-e-1em/
LOCATION:Ensino Médio
CATEGORIES:Reuniões
END:VEVENT
BEGIN:VEVENT
DTSTART;TZID=America/Sao_Paulo:20250210T190000
DTEND;TZID=America/Sao_Paulo:20250210T200000
DTSTAMP:20260421T110319
CREATED:20241219T200016Z
LAST-MODIFIED:20241219T200016Z
UID:8445-1739214000-1739217600@itaca.com.br
SUMMARY:19h - Reunião pais/profs 8EF
DESCRIPTION:
URL:https://itaca.com.br/agenda/19h-reuniao-pais-profs-8ef/
LOCATION:Ensino Fundamental 2
CATEGORIES:Reuniões
END:VEVENT
BEGIN:VEVENT
DTSTART;TZID=America/Sao_Paulo:20250212T190000
DTEND;TZID=America/Sao_Paulo:20250212T200000
DTSTAMP:20260421T110319
CREATED:20241219T200020Z
LAST-MODIFIED:20241219T200020Z
UID:8447-1739386800-1739390400@itaca.com.br
SUMMARY:19h - Reunião pais/profs 4EF
DESCRIPTION:
URL:https://itaca.com.br/agenda/19h-reuniao-pais-profs-4ef/
LOCATION:Ensino Fundamental 1
CATEGORIES:Reuniões
END:VEVENT
BEGIN:VEVENT
DTSTART;TZID=America/Sao_Paulo:20250217T190000
DTEND;TZID=America/Sao_Paulo:20250217T200000
DTSTAMP:20260421T110319
CREATED:20241219T200025Z
LAST-MODIFIED:20241219T200025Z
UID:8449-1739818800-1739822400@itaca.com.br
SUMMARY:19h - Reunião pais/profs 7EF
DESCRIPTION:
URL:https://itaca.com.br/agenda/19h-reuniao-pais-profs-7ef/
LOCATION:Ensino Fundamental 2
CATEGORIES:Reuniões
END:VEVENT
BEGIN:VEVENT
DTSTART;TZID=America/Sao_Paulo:20250224T190000
DTEND;TZID=America/Sao_Paulo:20250224T200000
DTSTAMP:20260421T110319
CREATED:20241219T200029Z
LAST-MODIFIED:20241219T200029Z
UID:8451-1740423600-1740427200@itaca.com.br
SUMMARY:19h - Reunião pais/profs 9EF
DESCRIPTION:
URL:https://itaca.com.br/agenda/19h-reuniao-pais-profs-9ef/
LOCATION:Ensino Fundamental 2
CATEGORIES:Reuniões
END:VEVENT
BEGIN:VEVENT
DTSTART;TZID=America/Sao_Paulo:20250227T190000
DTEND;TZID=America/Sao_Paulo:20250227T200000
DTSTAMP:20260421T110319
CREATED:20241219T200036Z
LAST-MODIFIED:20241219T200036Z
UID:8453-1740682800-1740686400@itaca.com.br
SUMMARY:Carnaval EF1
DESCRIPTION:
URL:https://itaca.com.br/agenda/carnaval-ef1/
LOCATION:Ensino Fundamental 1
CATEGORIES:Eventos
END:VEVENT
BEGIN:VEVENT
DTSTART;TZID=America/Sao_Paulo:20250303T190000
DTEND;TZID=America/Sao_Paulo:20250305T200000
DTSTAMP:20260421T110319
CREATED:20241219T200041Z
LAST-MODIFIED:20250125T135222Z
UID:8455-1741028400-1741204800@itaca.com.br
SUMMARY:FERIADO Carnaval e Cinzas
DESCRIPTION:
URL:https://itaca.com.br/agenda/feriado-carnaval-e-cinzas/
LOCATION:Ensino Fundamental 1
CATEGORIES:Feriados
END:VEVENT
BEGIN:VEVENT
DTSTART;TZID=America/Sao_Paulo:20250310T190000
DTEND;TZID=America/Sao_Paulo:20250310T200000
DTSTAMP:20260421T110319
CREATED:20241219T200047Z
LAST-MODIFIED:20241219T200047Z
UID:8457-1741633200-1741636800@itaca.com.br
SUMMARY:19h - Reunião pais/profs 5EF
DESCRIPTION:
URL:https://itaca.com.br/agenda/19h-reuniao-pais-profs-5ef/
LOCATION:Ensino Fundamental 1
CATEGORIES:Reuniões
END:VEVENT
BEGIN:VEVENT
DTSTART;TZID=America/Sao_Paulo:20250314T070000
DTEND;TZID=America/Sao_Paulo:20250314T170000
DTSTAMP:20260421T110319
CREATED:20241219T200051Z
LAST-MODIFIED:20241219T200051Z
UID:8459-1741935600-1741971600@itaca.com.br
SUMMARY:Comemoração St. Patrick’s Day EF2/EM
DESCRIPTION:
URL:https://itaca.com.br/agenda/comemoracao-st-patricks-day-ef2-em/
LOCATION:Ensino Fundamental 2
CATEGORIES:Eventos
END:VEVENT
BEGIN:VEVENT
DTSTART;TZID=America/Sao_Paulo:20250314T070000
DTEND;TZID=America/Sao_Paulo:20250314T170000
DTSTAMP:20260421T110319
CREATED:20241219T200058Z
LAST-MODIFIED:20241219T200058Z
UID:8461-1741935600-1741971600@itaca.com.br
SUMMARY:Comemoração St. Patrick’s Day EF2/EM
DESCRIPTION:
URL:https://itaca.com.br/agenda/comemoracao-st-patricks-day-ef2-em-2/
LOCATION:Ensino Médio
CATEGORIES:Eventos
END:VEVENT
BEGIN:VEVENT
DTSTART;TZID=America/Sao_Paulo:20250315T080000
DTEND;TZID=America/Sao_Paulo:20250315T170000
DTSTAMP:20260421T110319
CREATED:20241219T195424Z
LAST-MODIFIED:20241219T195424Z
UID:8467-1742025600-1742058000@itaca.com.br
SUMMARY:SÁBADO LETIVO - ANIVERSÁRIO DO ÍTACA
DESCRIPTION:
URL:https://itaca.com.br/agenda/sabado-letivo-aniversario-do-itaca/
LOCATION:Ensino Médio
CATEGORIES:Eventos
END:VEVENT
BEGIN:VEVENT
DTSTART;TZID=America/Sao_Paulo:20250315T080000
DTEND;TZID=America/Sao_Paulo:20250315T170000
DTSTAMP:20260421T110319
CREATED:20241219T200102Z
LAST-MODIFIED:20250125T141329Z
UID:8465-1742025600-1742058000@itaca.com.br
SUMMARY:SÁBADO LETIVO - ANIVERSÁRIO DO ÍTACA
DESCRIPTION:
URL:https://itaca.com.br/agenda/sabado-letivo-aniversario-do-itaca-2/
LOCATION:Ensino Fundamental 2
CATEGORIES:Eventos
END:VEVENT
BEGIN:VEVENT
DTSTART;TZID=America/Sao_Paulo:20250315T080000
DTEND;TZID=America/Sao_Paulo:20250315T170000
DTSTAMP:20260421T110319
CREATED:20241219T200109Z
LAST-MODIFIED:20241219T200109Z
UID:8468-1742025600-1742058000@itaca.com.br
SUMMARY:SÁBADO LETIVO - ANIVERSÁRIO DO ÍTACA
DESCRIPTION:
URL:https://itaca.com.br/agenda/sabado-letivo-aniversario-do-itaca-3/
LOCATION:Ensino Fundamental 1
CATEGORIES:Eventos
END:VEVENT
BEGIN:VEVENT
DTSTART;TZID=America/Sao_Paulo:20250317T190000
DTEND;TZID=America/Sao_Paulo:20250317T200000
DTSTAMP:20260421T110319
CREATED:20241219T195505Z
LAST-MODIFIED:20241219T195505Z
UID:8470-1742238000-1742241600@itaca.com.br
SUMMARY:19h - Reunião de pais 6/7EF - Tecnologia (com Cristiane)
DESCRIPTION:
URL:https://itaca.com.br/agenda/19h-reuniao-de-pais-6-7ef-tecnologia-com-cristiane/
LOCATION:Ensino Fundamental 2
CATEGORIES:Reuniões
END:VEVENT
BEGIN:VEVENT
DTSTART;TZID=America/Sao_Paulo:20250320T080000
DTEND;TZID=America/Sao_Paulo:20250320T170000
DTSTAMP:20260421T110319
CREATED:20250125T141725Z
LAST-MODIFIED:20250125T141725Z
UID:9309-1742457600-1742490000@itaca.com.br
SUMMARY:8EF - saída de estudo - Fronteiras e diversidade relig. (data indicativa)
DESCRIPTION:
URL:https://itaca.com.br/agenda/8ef-saida-de-estudo-fronteiras-e-diversidade-relig-data-indicativa/
LOCATION:Ensino Fundamental 2
CATEGORIES:Atividades externas
END:VEVENT
BEGIN:VEVENT
DTSTART;TZID=America/Sao_Paulo:20250321T134000
DTEND;TZID=America/Sao_Paulo:20250321T170000
DTSTAMP:20260421T110319
CREATED:20241219T195707Z
LAST-MODIFIED:20241219T195707Z
UID:8474-1742564400-1742576400@itaca.com.br
SUMMARY:13h40 - 1ª Oficina de mapas mentais 8/9 EF2
DESCRIPTION:
URL:https://itaca.com.br/agenda/13h40-1a-oficina-de-mapas-mentais-8-9-ef2/
LOCATION:Ensino Fundamental 2
CATEGORIES:Eventos
END:VEVENT
BEGIN:VEVENT
DTSTART;TZID=America/Sao_Paulo:20250322T090000
DTEND;TZID=America/Sao_Paulo:20250322T170000
DTSTAMP:20260421T110319
CREATED:20241219T195652Z
LAST-MODIFIED:20241219T195652Z
UID:8476-1742634000-1742662800@itaca.com.br
SUMMARY:Simulado 1 EM (geral)
DESCRIPTION:
URL:https://itaca.com.br/agenda/simulado-1-em-geral/
LOCATION:Ensino Médio
CATEGORIES:Provas e Avaliações
END:VEVENT
BEGIN:VEVENT
DTSTART;TZID=America/Sao_Paulo:20250331T000000
DTEND;TZID=America/Sao_Paulo:20250331T000000
DTSTAMP:20260421T110319
CREATED:20241219T195733Z
LAST-MODIFIED:20241219T195733Z
UID:8480-1743379200-1743379200@itaca.com.br
SUMMARY:Envio relatórios 1/2/3EF - coord
DESCRIPTION:
URL:https://itaca.com.br/agenda/envio-relatorios-1-2-3ef-coord/
LOCATION:Ensino Fundamental 1
CATEGORIES:Boletins e relatórios
END:VEVENT
BEGIN:VEVENT
DTSTART;TZID=America/Sao_Paulo:20250331T000000
DTEND;TZID=America/Sao_Paulo:20250403T000000
DTSTAMP:20260421T110319
CREATED:20241219T195725Z
LAST-MODIFIED:20241219T195725Z
UID:8478-1743379200-1743638400@itaca.com.br
SUMMARY:Plantões de dúvidas - EF2 (à tarde) - 31/03 a 3/04
DESCRIPTION:
URL:https://itaca.com.br/agenda/plantoes-de-duvidas-ef2-a-tarde-31-03-a-3-04/
LOCATION:Ensino Fundamental 2
CATEGORIES:Estudos e recuperação
END:VEVENT
BEGIN:VEVENT
DTSTART;TZID=America/Sao_Paulo:20250331T190000
DTEND;TZID=America/Sao_Paulo:20250331T200000
DTSTAMP:20260421T110319
CREATED:20241219T195741Z
LAST-MODIFIED:20241219T195741Z
UID:8482-1743447600-1743451200@itaca.com.br
SUMMARY:19h - Reunião de pais 8/9EF - Tecnologia (com Cristiane)
DESCRIPTION:
URL:https://itaca.com.br/agenda/19h-reuniao-de-pais-8-9ef-tecnologia-com-cristiane/
LOCATION:Ensino Fundamental 2
CATEGORIES:Reuniões
END:VEVENT
END:VCALENDAR