BEGIN:VCALENDAR
VERSION:2.0
PRODID:-//Colégio Ítaca - ECPv6.15.20//NONSGML v1.0//EN
CALSCALE:GREGORIAN
METHOD:PUBLISH
X-WR-CALNAME:Colégio Ítaca
X-ORIGINAL-URL:https://itaca.com.br
X-WR-CALDESC:Eventos para Colégio Ítaca
REFRESH-INTERVAL;VALUE=DURATION:PT1H
X-Robots-Tag:noindex
X-PUBLISHED-TTL:PT1H
BEGIN:VTIMEZONE
TZID:America/Sao_Paulo
BEGIN:STANDARD
TZOFFSETFROM:-0300
TZOFFSETTO:-0300
TZNAME:-03
DTSTART:20230101T000000
END:STANDARD
END:VTIMEZONE
BEGIN:VEVENT
DTSTART;VALUE=DATE:20240322
DTEND;VALUE=DATE:20240323
DTSTAMP:20260422T030355
CREATED:20240327T143046Z
LAST-MODIFIED:20240327T143426Z
UID:3467-1711065600-1711151999@itaca.com.br
SUMMARY:Reunião pais 5ºano
DESCRIPTION:
URL:https://itaca.com.br/agenda/reuniao-pais-5oano/
LOCATION:Ensino Fundamental 1
CATEGORIES:Reuniões
END:VEVENT
BEGIN:VEVENT
DTSTART;VALUE=DATE:20240323
DTEND;VALUE=DATE:20240324
DTSTAMP:20260422T030355
CREATED:20240327T143505Z
LAST-MODIFIED:20240327T143505Z
UID:3473-1711152000-1711238399@itaca.com.br
SUMMARY:Reunião pais/profs 1ºEF
DESCRIPTION:
URL:https://itaca.com.br/agenda/reuniao-pais-profs-1oef/
LOCATION:Ensino Fundamental 1
CATEGORIES:Reuniões
END:VEVENT
END:VCALENDAR