BEGIN:VCALENDAR
VERSION:2.0
PRODID:-//Colégio Ítaca - ECPv6.15.20//NONSGML v1.0//EN
CALSCALE:GREGORIAN
METHOD:PUBLISH
X-WR-CALNAME:Colégio Ítaca
X-ORIGINAL-URL:https://itaca.com.br
X-WR-CALDESC:Eventos para Colégio Ítaca
REFRESH-INTERVAL;VALUE=DURATION:PT1H
X-Robots-Tag:noindex
X-PUBLISHED-TTL:PT1H
BEGIN:VTIMEZONE
TZID:America/Sao_Paulo
BEGIN:STANDARD
TZOFFSETFROM:-0300
TZOFFSETTO:-0300
TZNAME:-03
DTSTART:20230101T000000
END:STANDARD
END:VTIMEZONE
BEGIN:VEVENT
DTSTART;VALUE=DATE:20240409
DTEND;VALUE=DATE:20240423
DTSTAMP:20260422T011155
CREATED:20240327T142420Z
LAST-MODIFIED:20240409T185852Z
UID:3451-1712620800-1713830399@itaca.com.br
SUMMARY:Provas e Avaliações
DESCRIPTION:
URL:https://itaca.com.br/agenda/provas-e-avaliacoes-3/
LOCATION:Ensino Fundamental 1
CATEGORIES:Provas e Avaliações
END:VEVENT
BEGIN:VEVENT
DTSTART;TZID=America/Sao_Paulo:20240417T170000
DTEND;TZID=America/Sao_Paulo:20240417T190000
DTSTAMP:20260422T011155
CREATED:20240410T131430Z
LAST-MODIFIED:20240410T131430Z
UID:3798-1713373200-1713380400@itaca.com.br
SUMMARY:Publicação de Notas 1o bi - 5EF1
DESCRIPTION:
URL:https://itaca.com.br/agenda/publicacao-de-notas-1o-bi-5ef1/
LOCATION:Ensino Fundamental 1
CATEGORIES:Boletins e relatórios
END:VEVENT
BEGIN:VEVENT
DTSTART;TZID=America/Sao_Paulo:20240422T190000
DTEND;TZID=America/Sao_Paulo:20240422T200000
DTSTAMP:20260422T011155
CREATED:20240325T140723Z
LAST-MODIFIED:20240326T211127Z
UID:3313-1713812400-1713816000@itaca.com.br
SUMMARY:Reunião 22/04 às 19h
DESCRIPTION:
URL:https://itaca.com.br/agenda/reuniao-22-04-as-19h/
LOCATION:Ensino Fundamental 1
CATEGORIES:Reuniões
END:VEVENT
BEGIN:VEVENT
DTSTART;TZID=America/Sao_Paulo:20240423T190000
DTEND;TZID=America/Sao_Paulo:20240423T210000
DTSTAMP:20260422T011155
CREATED:20240410T131645Z
LAST-MODIFIED:20240410T131645Z
UID:3800-1713898800-1713906000@itaca.com.br
SUMMARY:Reunião pais/profs 1ºEF
DESCRIPTION:
URL:https://itaca.com.br/agenda/reuniao-pais-profs-1oef-2/
LOCATION:Ensino Fundamental 1
CATEGORIES:Reuniões
END:VEVENT
BEGIN:VEVENT
DTSTART;TZID=America/Sao_Paulo:20240430T190000
DTEND;TZID=America/Sao_Paulo:20240430T210000
DTSTAMP:20260422T011155
CREATED:20240410T131806Z
LAST-MODIFIED:20240410T131806Z
UID:3802-1714503600-1714510800@itaca.com.br
SUMMARY:Reunião pais/profs 2ºEF
DESCRIPTION:
URL:https://itaca.com.br/agenda/reuniao-pais-profs-2oef-2/
LOCATION:Ensino Fundamental 1
CATEGORIES:Reuniões
END:VEVENT
END:VCALENDAR