BEGIN:VCALENDAR
VERSION:2.0
PRODID:-//Colégio Ítaca - ECPv6.15.20//NONSGML v1.0//EN
CALSCALE:GREGORIAN
METHOD:PUBLISH
X-WR-CALNAME:Colégio Ítaca
X-ORIGINAL-URL:https://itaca.com.br
X-WR-CALDESC:Eventos para Colégio Ítaca
REFRESH-INTERVAL;VALUE=DURATION:PT1H
X-Robots-Tag:noindex
X-PUBLISHED-TTL:PT1H
BEGIN:VTIMEZONE
TZID:America/Sao_Paulo
BEGIN:STANDARD
TZOFFSETFROM:-0300
TZOFFSETTO:-0300
TZNAME:-03
DTSTART:20230101T000000
END:STANDARD
END:VTIMEZONE
BEGIN:VEVENT
DTSTART;VALUE=DATE:20240814
DTEND;VALUE=DATE:20240815
DTSTAMP:20260421T175635
CREATED:20240702T180942Z
LAST-MODIFIED:20240823T121220Z
UID:5370-1723593600-1723679999@itaca.com.br
SUMMARY:Reunião pais profs 5ºEF
DESCRIPTION:
URL:https://itaca.com.br/agenda/reuniao-pais-profs-5oef/
LOCATION:Ensino Fundamental 1
CATEGORIES:Reuniões
END:VEVENT
BEGIN:VEVENT
DTSTART;VALUE=DATE:20240831
DTEND;VALUE=DATE:20240901
DTSTAMP:20260421T175635
CREATED:20240702T181235Z
LAST-MODIFIED:20240820T231724Z
UID:5374-1725062400-1725148799@itaca.com.br
SUMMARY:Sábado letivo - Manhã musical EF1
DESCRIPTION:
URL:https://itaca.com.br/agenda/sabado-letivo-manha-musical-ef1/
LOCATION:Ensino Fundamental 1
CATEGORIES:Eventos
END:VEVENT
END:VCALENDAR